Package: alabaster.matrix Version: 1.7.6 Command: /Library/Frameworks/R.framework/Resources/bin/R CMD INSTALL alabaster.matrix StartedAt: 2025-02-09 15:12:36 -0500 (Sun, 09 Feb 2025) EndedAt: 2025-02-09 15:13:24 -0500 (Sun, 09 Feb 2025) EllapsedTime: 47.9 seconds RetCode: 0 Status: OK