Package: alabaster.matrix Version: 1.7.6 Command: /home/biocbuild/bbs-3.21-bioc/R/bin/R CMD INSTALL alabaster.matrix StartedAt: 2025-02-09 15:35:07 -0500 (Sun, 09 Feb 2025) EndedAt: 2025-02-09 15:35:36 -0500 (Sun, 09 Feb 2025) EllapsedTime: 28.2 seconds RetCode: 0 Status: OK