Package: alabaster.matrix Version: 1.7.6 Command: rm -rf alabaster.matrix.buildbin-libdir && mkdir alabaster.matrix.buildbin-libdir && E:\biocbuild\bbs-3.21-bioc\R\bin\R.exe CMD INSTALL --build --library=alabaster.matrix.buildbin-libdir alabaster.matrix_1.7.6.tar.gz StartedAt: 2025-02-10 07:11:03 -0500 (Mon, 10 Feb 2025) EndedAt: 2025-02-10 07:13:47 -0500 (Mon, 10 Feb 2025) EllapsedTime: 164.5 seconds RetCode: 0 Status: OK PackageFile: alabaster.matrix_1.7.6.zip PackageFileSize: 1.014 MiB