Package: alabaster.matrix Version: 1.7.6 Command: chmod a+r alabaster.matrix -R && E:\biocbuild\bbs-3.21-bioc\R\bin\R.exe CMD build --keep-empty-dirs --no-resave-data alabaster.matrix StartedAt: 2025-02-09 17:11:04 -0500 (Sun, 09 Feb 2025) EndedAt: 2025-02-09 17:12:14 -0500 (Sun, 09 Feb 2025) EllapsedTime: 69.6 seconds RetCode: 0 Status: OK PackageFile: alabaster.matrix_1.7.6.tar.gz PackageFileSize: 273.6 KiB