Package: alabaster.matrix Version: 1.7.6 Command: E:\biocbuild\bbs-3.21-bioc\R\bin\R.exe CMD check --no-multiarch --install=check:alabaster.matrix.install-out.txt --library=E:\biocbuild\bbs-3.21-bioc\R\library --no-vignettes --timings alabaster.matrix_1.7.6.tar.gz StartedAt: 2025-02-09 22:32:19 -0500 (Sun, 09 Feb 2025) EndedAt: 2025-02-09 22:37:25 -0500 (Sun, 09 Feb 2025) EllapsedTime: 306.2 seconds RetCode: 0 Status: OK CheckDir: alabaster.matrix.Rcheck Warnings: 0