Package: alabaster.matrix Version: 1.7.6 Command: E:\biocbuild\bbs-3.21-bioc\R\bin\R.exe CMD INSTALL alabaster.matrix StartedAt: 2025-02-09 15:54:14 -0500 (Sun, 09 Feb 2025) EndedAt: 2025-02-09 15:56:14 -0500 (Sun, 09 Feb 2025) EllapsedTime: 119.6 seconds RetCode: 0 Status: OK