Package: alabaster.ranges Version: 1.7.0 Command: /home/biocbuild/R/R/bin/R CMD INSTALL alabaster.ranges StartedAt: 2025-01-29 19:40:57 -0000 (Wed, 29 Jan 2025) EndedAt: 2025-01-29 19:41:11 -0000 (Wed, 29 Jan 2025) EllapsedTime: 14.5 seconds RetCode: 0 Status: OK