Package: alabaster.ranges Version: 1.7.0 Command: /Library/Frameworks/R.framework/Resources/bin/R CMD build --keep-empty-dirs --no-resave-data alabaster.ranges StartedAt: 2025-02-09 15:52:33 -0500 (Sun, 09 Feb 2025) EndedAt: 2025-02-09 15:52:53 -0500 (Sun, 09 Feb 2025) EllapsedTime: 20.6 seconds RetCode: 0 Status: OK PackageFile: alabaster.ranges_1.7.0.tar.gz PackageFileSize: 225.6 KiB