Package: alabaster.sce Version: 1.7.0 Command: /home/biocbuild/bbs-3.21-bioc/R/bin/R CMD build --keep-empty-dirs --no-resave-data alabaster.sce StartedAt: 2025-02-04 16:05:36 -0500 (Tue, 04 Feb 2025) EndedAt: 2025-02-04 16:06:14 -0500 (Tue, 04 Feb 2025) EllapsedTime: 38.0 seconds RetCode: 0 Status: OK PackageFile: alabaster.sce_1.7.0.tar.gz PackageFileSize: 220.4 KiB