Package: alabaster.sce Version: 1.7.0 Command: rm -rf alabaster.sce.buildbin-libdir && mkdir alabaster.sce.buildbin-libdir && E:\biocbuild\bbs-3.21-bioc\R\bin\R.exe CMD INSTALL --build --library=alabaster.sce.buildbin-libdir alabaster.sce_1.7.0.tar.gz StartedAt: 2025-02-05 07:23:50 -0500 (Wed, 05 Feb 2025) EndedAt: 2025-02-05 07:24:28 -0500 (Wed, 05 Feb 2025) EllapsedTime: 38.0 seconds RetCode: 0 Status: OK PackageFile: alabaster.sce_1.7.0.zip PackageFileSize: 297.3 KiB