Package: alabaster.spatial Version: 1.7.1 Maintainer: Aaron Lun MaintainerEmail: infinite.monkeys.with.keyboards at gmail.com git_url: https://git.bioconductor.org/packages/alabaster.spatial git_branch: devel git_last_commit: f82c877 git_last_commit_date: 2024-11-09 04:41:21 -0500 (Sat, 09 Nov 2024)