Package: alabaster.spatial Version: 1.7.1 Command: /Library/Frameworks/R.framework/Resources/bin/R CMD INSTALL alabaster.spatial StartedAt: 2025-02-09 15:26:31 -0500 (Sun, 09 Feb 2025) EndedAt: 2025-02-09 15:26:42 -0500 (Sun, 09 Feb 2025) EllapsedTime: 11.8 seconds RetCode: 0 Status: OK