Package: alabaster.spatial Version: 1.7.1 Command: /Library/Frameworks/R.framework/Resources/bin/R CMD build --keep-empty-dirs --no-resave-data alabaster.spatial StartedAt: 2025-02-12 15:51:26 -0500 (Wed, 12 Feb 2025) EndedAt: 2025-02-12 15:52:15 -0500 (Wed, 12 Feb 2025) EllapsedTime: 49.2 seconds RetCode: 0 Status: OK PackageFile: alabaster.spatial_1.7.1.tar.gz PackageFileSize: 739.1 KiB