Package: alabaster.spatial Version: 1.7.1 Command: /Library/Frameworks/R.framework/Resources/bin/R CMD check --install=check:alabaster.spatial.install-out.txt --library=/Library/Frameworks/R.framework/Resources/library --no-vignettes --timings alabaster.spatial_1.7.1.tar.gz StartedAt: 2025-02-12 18:52:02 -0500 (Wed, 12 Feb 2025) EndedAt: 2025-02-12 18:56:15 -0500 (Wed, 12 Feb 2025) EllapsedTime: 252.7 seconds RetCode: 0 Status: OK CheckDir: alabaster.spatial.Rcheck Warnings: 0