Package: alabaster.spatial Version: 1.7.1 Command: /home/biocbuild/bbs-3.21-bioc/R/bin/R CMD build --keep-empty-dirs --no-resave-data alabaster.spatial StartedAt: 2025-02-04 16:05:53 -0500 (Tue, 04 Feb 2025) EndedAt: 2025-02-04 16:06:36 -0500 (Tue, 04 Feb 2025) EllapsedTime: 43.1 seconds RetCode: 0 Status: OK PackageFile: alabaster.spatial_1.7.1.tar.gz PackageFileSize: 628.7 KiB