Package: alabaster.spatial Version: 1.7.1 Command: /home/biocbuild/bbs-3.21-bioc/R/bin/R CMD INSTALL alabaster.spatial StartedAt: 2025-02-09 15:36:30 -0500 (Sun, 09 Feb 2025) EndedAt: 2025-02-09 15:37:00 -0500 (Sun, 09 Feb 2025) EllapsedTime: 30.4 seconds RetCode: 0 Status: OK