Package: alabaster.spatial Version: 1.7.1 Command: rm -rf alabaster.spatial.buildbin-libdir && mkdir alabaster.spatial.buildbin-libdir && E:\biocbuild\bbs-3.21-bioc\R\bin\R.exe CMD INSTALL --build --library=alabaster.spatial.buildbin-libdir alabaster.spatial_1.7.1.tar.gz StartedAt: 2025-02-05 07:23:58 -0500 (Wed, 05 Feb 2025) EndedAt: 2025-02-05 07:24:54 -0500 (Wed, 05 Feb 2025) EllapsedTime: 55.8 seconds RetCode: 0 Status: OK PackageFile: alabaster.spatial_1.7.1.zip PackageFileSize: 773.7 KiB