Package: alabaster.spatial Version: 1.7.1 Command: chmod a+r alabaster.spatial -R && E:\biocbuild\bbs-3.21-bioc\R\bin\R.exe CMD build --keep-empty-dirs --no-resave-data alabaster.spatial StartedAt: 2025-02-09 17:11:35 -0500 (Sun, 09 Feb 2025) EndedAt: 2025-02-09 17:12:38 -0500 (Sun, 09 Feb 2025) EllapsedTime: 63.1 seconds RetCode: 0 Status: OK PackageFile: alabaster.spatial_1.7.1.tar.gz PackageFileSize: 647 KiB