Package: alabaster.spatial Version: 1.7.1 Command: E:\biocbuild\bbs-3.21-bioc\R\bin\R.exe CMD check --no-multiarch --install=check:alabaster.spatial.install-out.txt --library=E:\biocbuild\bbs-3.21-bioc\R\library --no-vignettes --timings alabaster.spatial_1.7.1.tar.gz StartedAt: 2025-02-09 22:32:47 -0500 (Sun, 09 Feb 2025) EndedAt: 2025-02-09 22:37:06 -0500 (Sun, 09 Feb 2025) EllapsedTime: 259.0 seconds RetCode: 0 Status: OK CheckDir: alabaster.spatial.Rcheck Warnings: 0