Package: alabaster.spatial Version: 1.7.1 Command: E:\biocbuild\bbs-3.21-bioc\R\bin\R.exe CMD INSTALL alabaster.spatial StartedAt: 2025-02-04 16:45:42 -0500 (Tue, 04 Feb 2025) EndedAt: 2025-02-04 16:46:19 -0500 (Tue, 04 Feb 2025) EllapsedTime: 37.8 seconds RetCode: 0 Status: OK