Package: alabaster.string Version: 1.7.0 Command: rm -rf alabaster.string.buildbin-libdir && mkdir alabaster.string.buildbin-libdir && /Users/biocbuild/BBS/utils/build-universal.sh alabaster.string_1.7.0.tar.gz /Library/Frameworks/R.framework/Resources/bin/R alabaster.string.buildbin-libdir StartedAt: 2025-02-10 00:41:20 -0500 (Mon, 10 Feb 2025) EndedAt: 2025-02-10 00:41:39 -0500 (Mon, 10 Feb 2025) EllapsedTime: 19.6 seconds RetCode: 0 Status: OK PackageFile: alabaster.string_1.7.0.tgz PackageFileSize: 269.2 KiB