Package: alabaster.string Version: 1.7.0 Command: rm -rf alabaster.string.buildbin-libdir && mkdir alabaster.string.buildbin-libdir && E:\biocbuild\bbs-3.21-bioc\R\bin\R.exe CMD INSTALL --build --library=alabaster.string.buildbin-libdir alabaster.string_1.7.0.tar.gz StartedAt: 2025-02-10 07:11:21 -0500 (Mon, 10 Feb 2025) EndedAt: 2025-02-10 07:11:39 -0500 (Mon, 10 Feb 2025) EllapsedTime: 18.0 seconds RetCode: 0 Status: OK PackageFile: alabaster.string_1.7.0.zip PackageFileSize: 272.9 KiB