Package: alabaster.string Version: 1.7.0 Command: chmod a+r alabaster.string -R && E:\biocbuild\bbs-3.21-bioc\R\bin\R.exe CMD build --keep-empty-dirs --no-resave-data alabaster.string StartedAt: 2025-02-09 17:11:36 -0500 (Sun, 09 Feb 2025) EndedAt: 2025-02-09 17:12:02 -0500 (Sun, 09 Feb 2025) EllapsedTime: 25.9 seconds RetCode: 0 Status: OK PackageFile: alabaster.string_1.7.0.tar.gz PackageFileSize: 220.4 KiB