Package: alabaster.string Version: 1.7.0 Command: E:\biocbuild\bbs-3.21-bioc\R\bin\R.exe CMD check --no-multiarch --install=check:alabaster.string.install-out.txt --library=E:\biocbuild\bbs-3.21-bioc\R\library --no-vignettes --timings alabaster.string_1.7.0.tar.gz StartedAt: 2025-02-09 22:32:49 -0500 (Sun, 09 Feb 2025) EndedAt: 2025-02-09 22:34:26 -0500 (Sun, 09 Feb 2025) EllapsedTime: 97.4 seconds RetCode: 0 Status: OK CheckDir: alabaster.string.Rcheck Warnings: 0