Package: annaffy Version: 1.79.0 Command: /Library/Frameworks/R.framework/Resources/bin/R CMD build --keep-empty-dirs --no-resave-data annaffy StartedAt: 2025-02-09 15:32:49 -0500 (Sun, 09 Feb 2025) EndedAt: 2025-02-09 15:33:01 -0500 (Sun, 09 Feb 2025) EllapsedTime: 12.2 seconds RetCode: 0 Status: OK PackageFile: annaffy_1.79.0.tar.gz PackageFileSize: 315 KiB