Package: annaffy Version: 1.79.0 Command: /Library/Frameworks/R.framework/Resources/bin/R CMD check --install=check:annaffy.install-out.txt --library=/Library/Frameworks/R.framework/Resources/library --no-vignettes --timings annaffy_1.79.0.tar.gz StartedAt: 2025-02-03 18:38:51 -0500 (Mon, 03 Feb 2025) EndedAt: 2025-02-03 18:39:35 -0500 (Mon, 03 Feb 2025) EllapsedTime: 44.5 seconds RetCode: 0 Status: WARNINGS CheckDir: annaffy.Rcheck Warnings: 1