Package: annaffy Version: 1.79.0 Command: /home/biocbuild/R/R/bin/R CMD INSTALL annaffy StartedAt: 2025-01-29 19:47:34 -0000 (Wed, 29 Jan 2025) EndedAt: 2025-01-29 19:47:59 -0000 (Wed, 29 Jan 2025) EllapsedTime: 25.4 seconds RetCode: 0 Status: OK