Package: annaffy Version: 1.79.0 Command: /Library/Frameworks/R.framework/Resources/bin/R CMD build --keep-empty-dirs --no-resave-data annaffy StartedAt: 2025-02-03 15:57:03 -0500 (Mon, 03 Feb 2025) EndedAt: 2025-02-03 15:57:44 -0500 (Mon, 03 Feb 2025) EllapsedTime: 41.2 seconds RetCode: 0 Status: OK PackageFile: annaffy_1.79.0.tar.gz PackageFileSize: 314.6 KiB