Package: annaffy Version: 1.79.0 Command: /home/biocbuild/bbs-3.21-bioc/R/bin/R CMD build --keep-empty-dirs --no-resave-data annaffy StartedAt: 2025-02-04 16:06:38 -0500 (Tue, 04 Feb 2025) EndedAt: 2025-02-04 16:07:07 -0500 (Tue, 04 Feb 2025) EllapsedTime: 29.0 seconds RetCode: 0 Status: OK PackageFile: annaffy_1.79.0.tar.gz PackageFileSize: 315 KiB