Package: annaffy Version: 1.79.0 Command: /home/biocbuild/bbs-3.21-bioc/R/bin/R CMD INSTALL annaffy StartedAt: 2025-02-04 15:41:46 -0500 (Tue, 04 Feb 2025) EndedAt: 2025-02-04 15:42:02 -0500 (Tue, 04 Feb 2025) EllapsedTime: 16.3 seconds RetCode: 0 Status: OK