Package: annaffy Version: 1.79.0 Command: rm -rf annaffy.buildbin-libdir && mkdir annaffy.buildbin-libdir && E:\biocbuild\bbs-3.21-bioc\R\bin\R.exe CMD INSTALL --build --library=annaffy.buildbin-libdir annaffy_1.79.0.tar.gz StartedAt: 2025-02-04 07:27:19 -0500 (Tue, 04 Feb 2025) EndedAt: 2025-02-04 07:28:13 -0500 (Tue, 04 Feb 2025) EllapsedTime: 53.6 seconds RetCode: 0 Status: OK PackageFile: annaffy_1.79.0.zip PackageFileSize: 596.1 KiB