Package: annaffy Version: 1.79.0 Command: chmod a+r annaffy -R && E:\biocbuild\bbs-3.21-bioc\R\bin\R.exe CMD build --keep-empty-dirs --no-resave-data annaffy StartedAt: 2025-02-03 17:25:18 -0500 (Mon, 03 Feb 2025) EndedAt: 2025-02-03 17:26:12 -0500 (Mon, 03 Feb 2025) EllapsedTime: 53.7 seconds RetCode: 0 Status: OK PackageFile: annaffy_1.79.0.tar.gz PackageFileSize: 202.3 KiB