Package: annaffy Version: 1.79.0 Command: E:\biocbuild\bbs-3.21-bioc\R\bin\R.exe CMD check --no-multiarch --install=check:annaffy.install-out.txt --library=E:\biocbuild\bbs-3.21-bioc\R\library --no-vignettes --timings annaffy_1.79.0.tar.gz StartedAt: 2025-02-03 23:05:50 -0500 (Mon, 03 Feb 2025) EndedAt: 2025-02-03 23:08:06 -0500 (Mon, 03 Feb 2025) EllapsedTime: 136.1 seconds RetCode: 0 Status: WARNINGS CheckDir: annaffy.Rcheck Warnings: 1