Package: annaffy Version: 1.79.0 Command: E:\biocbuild\bbs-3.21-bioc\R\bin\R.exe CMD INSTALL annaffy StartedAt: 2025-02-03 15:58:01 -0500 (Mon, 03 Feb 2025) EndedAt: 2025-02-03 15:58:48 -0500 (Mon, 03 Feb 2025) EllapsedTime: 46.1 seconds RetCode: 0 Status: OK