Package: annotate Version: 1.85.0 Command: /Library/Frameworks/R.framework/Resources/bin/R CMD build --keep-empty-dirs --no-resave-data annotate StartedAt: 2025-02-12 15:32:55 -0500 (Wed, 12 Feb 2025) EndedAt: 2025-02-12 15:33:28 -0500 (Wed, 12 Feb 2025) EllapsedTime: 32.4 seconds RetCode: 0 Status: OK PackageFile: annotate_1.85.0.tar.gz PackageFileSize: 1.785 MiB