Package: annotate Version: 1.85.0 Command: /home/biocbuild/R/R/bin/R CMD check --install=check:annotate.install-out.txt --library=/home/biocbuild/R/R/site-library --no-vignettes --timings annotate_1.85.0.tar.gz StartedAt: 2025-01-28 03:31:31 -0000 (Tue, 28 Jan 2025) EndedAt: 2025-01-28 03:35:36 -0000 (Tue, 28 Jan 2025) EllapsedTime: 245.4 seconds RetCode: 0 Status: OK CheckDir: annotate.Rcheck Warnings: 0