Package: annotate Version: 1.85.0 Command: rm -rf annotate.buildbin-libdir && mkdir annotate.buildbin-libdir && /Users/biocbuild/BBS/utils/build-universal.sh annotate_1.85.0.tar.gz /Library/Frameworks/R.framework/Resources/bin/R annotate.buildbin-libdir StartedAt: 2025-02-10 00:41:42 -0500 (Mon, 10 Feb 2025) EndedAt: 2025-02-10 00:42:08 -0500 (Mon, 10 Feb 2025) EllapsedTime: 26.7 seconds RetCode: 0 Status: OK PackageFile: annotate_1.85.0.tgz PackageFileSize: 2.08 MiB