Package: annotate Version: 1.85.0 Command: /Library/Frameworks/R.framework/Resources/bin/R CMD check --install=check:annotate.install-out.txt --library=/Library/Frameworks/R.framework/Resources/library --no-vignettes --timings annotate_1.85.0.tar.gz StartedAt: 2025-02-09 19:02:33 -0500 (Sun, 09 Feb 2025) EndedAt: 2025-02-09 19:06:06 -0500 (Sun, 09 Feb 2025) EllapsedTime: 213.1 seconds RetCode: 0 Status: OK CheckDir: annotate.Rcheck Warnings: 0