Package: annotate Version: 1.85.0 Command: /home/biocbuild/bbs-3.21-bioc/R/bin/R CMD build --keep-empty-dirs --no-resave-data annotate StartedAt: 2025-02-09 16:08:42 -0500 (Sun, 09 Feb 2025) EndedAt: 2025-02-09 16:09:43 -0500 (Sun, 09 Feb 2025) EllapsedTime: 61.1 seconds RetCode: 0 Status: OK PackageFile: annotate_1.85.0.tar.gz PackageFileSize: 1.786 MiB