Package: annotate Version: 1.85.0 Command: /home/biocbuild/bbs-3.21-bioc/R/bin/R CMD check --install=check:annotate.install-out.txt --library=/home/biocbuild/bbs-3.21-bioc/R/site-library --timings annotate_1.85.0.tar.gz StartedAt: 2025-02-04 19:57:43 -0500 (Tue, 04 Feb 2025) EndedAt: 2025-02-04 20:01:48 -0500 (Tue, 04 Feb 2025) EllapsedTime: 245.5 seconds RetCode: 0 Status: OK CheckDir: annotate.Rcheck Warnings: 0