Package: annotationTools Version: 1.81.0 Command: rm -rf annotationTools.buildbin-libdir && mkdir annotationTools.buildbin-libdir && /Users/biocbuild/BBS/utils/build-universal.sh annotationTools_1.81.0.tar.gz /Library/Frameworks/R.framework/Resources/bin/R annotationTools.buildbin-libdir StartedAt: 2025-02-12 22:10:55 -0500 (Wed, 12 Feb 2025) EndedAt: 2025-02-12 22:10:57 -0500 (Wed, 12 Feb 2025) EllapsedTime: 2.1 seconds RetCode: 0 Status: OK PackageFile: annotationTools_1.81.0.tgz PackageFileSize: 394.6 KiB