Package: annotationTools Version: 1.81.0 Command: chmod a+r annotationTools -R && E:\biocbuild\bbs-3.21-bioc\R\bin\R.exe CMD build --keep-empty-dirs --no-resave-data annotationTools StartedAt: 2025-02-12 17:14:45 -0500 (Wed, 12 Feb 2025) EndedAt: 2025-02-12 17:16:46 -0500 (Wed, 12 Feb 2025) EllapsedTime: 121.2 seconds RetCode: 0 Status: OK PackageFile: annotationTools_1.81.0.tar.gz PackageFileSize: 333.8 KiB