Package: annotatr Version: 1.33.0 Command: /home/biocbuild/R/R/bin/R CMD INSTALL annotatr StartedAt: 2025-01-29 19:55:50 -0000 (Wed, 29 Jan 2025) EndedAt: 2025-01-29 19:56:46 -0000 (Wed, 29 Jan 2025) EllapsedTime: 55.6 seconds RetCode: 0 Status: OK