Package: annotatr Version: 1.33.0 Command: rm -rf annotatr.buildbin-libdir && mkdir annotatr.buildbin-libdir && E:\biocbuild\bbs-3.21-bioc\R\bin\R.exe CMD INSTALL --build --library=annotatr.buildbin-libdir annotatr_1.33.0.tar.gz StartedAt: 2025-02-10 07:12:27 -0500 (Mon, 10 Feb 2025) EndedAt: 2025-02-10 07:13:30 -0500 (Mon, 10 Feb 2025) EllapsedTime: 63.1 seconds RetCode: 0 Status: OK PackageFile: annotatr_1.33.0.zip PackageFileSize: 2.22 MiB