Package: annotatr Version: 1.33.0 Command: E:\biocbuild\bbs-3.21-bioc\R\bin\R.exe CMD INSTALL annotatr StartedAt: 2025-02-09 16:37:29 -0500 (Sun, 09 Feb 2025) EndedAt: 2025-02-09 16:38:24 -0500 (Sun, 09 Feb 2025) EllapsedTime: 54.2 seconds RetCode: 0 Status: OK