Package: anota Version: 1.55.0 Command: rm -rf anota.buildbin-libdir && mkdir anota.buildbin-libdir && /Users/biocbuild/BBS/utils/build-universal.sh anota_1.55.0.tar.gz /Library/Frameworks/R.framework/Resources/bin/R anota.buildbin-libdir StartedAt: 2025-02-09 22:05:53 -0500 (Sun, 09 Feb 2025) EndedAt: 2025-02-09 22:05:58 -0500 (Sun, 09 Feb 2025) EllapsedTime: 4.1 seconds RetCode: 0 Status: OK PackageFile: anota_1.55.0.tgz PackageFileSize: 712 KiB