Package: anota Version: 1.55.0 Command: /Library/Frameworks/R.framework/Resources/bin/R CMD build --keep-empty-dirs --no-resave-data anota StartedAt: 2025-02-03 16:08:05 -0500 (Mon, 03 Feb 2025) EndedAt: 2025-02-03 16:08:15 -0500 (Mon, 03 Feb 2025) EllapsedTime: 10.1 seconds RetCode: 0 Status: OK PackageFile: anota_1.55.0.tar.gz PackageFileSize: 943.4 KiB