Package: anota Version: 1.55.0 Command: /Library/Frameworks/R.framework/Resources/bin/R CMD check --install=check:anota.install-out.txt --library=/Library/Frameworks/R.framework/Resources/library --no-vignettes --timings anota_1.55.0.tar.gz StartedAt: 2025-02-09 18:03:30 -0500 (Sun, 09 Feb 2025) EndedAt: 2025-02-09 18:03:57 -0500 (Sun, 09 Feb 2025) EllapsedTime: 26.4 seconds RetCode: 0 Status: OK CheckDir: anota.Rcheck Warnings: 0