Package: anota Version: 1.55.0 Command: /Library/Frameworks/R.framework/Resources/bin/R CMD INSTALL anota StartedAt: 2025-02-03 15:57:11 -0500 (Mon, 03 Feb 2025) EndedAt: 2025-02-03 15:57:14 -0500 (Mon, 03 Feb 2025) EllapsedTime: 3.5 seconds RetCode: 0 Status: OK