Package: anota Version: 1.55.0 Command: rm -rf anota.buildbin-libdir && mkdir anota.buildbin-libdir && /Users/biocbuild/BBS/utils/build-universal.sh anota_1.55.0.tar.gz /Library/Frameworks/R.framework/Resources/bin/R anota.buildbin-libdir StartedAt: 2025-02-10 00:41:49 -0500 (Mon, 10 Feb 2025) EndedAt: 2025-02-10 00:42:05 -0500 (Mon, 10 Feb 2025) EllapsedTime: 16.2 seconds RetCode: 0 Status: OK PackageFile: anota_1.55.0.tgz PackageFileSize: 710.9 KiB